BEGIN:VCALENDAR
VERSION:2.0
PRODID:icalendar-ruby
CALSCALE:GREGORIAN
METHOD:PUBLISH
BEGIN:VEVENT
DTSTAMP:20260421T185311Z
UID:232-810312@richmondparkchurch.ca
DTSTART:20260725T003000Z
DTEND:20260725T033000Z
CLASS:PUBLIC
CREATED:20260421T132535
DESCRIPTION:
LAST-MODIFIED:20260421T132535
LOCATION:
SUMMARY:j.a.b.s.  Junior Adult Bible Study
URL;VALUE=URI:https://www.richmondparkchurch.ca/events/j-a-b-s-junior-adult
 -bible-study/2026-07-24
ATTACH;FILENAME=j.a.b.s.-2.png;FMTTYPE=image/png:https://dq5pwpg1q8ru0.clou
 dfront.net/2025/09/17/19/06/19/5175646d-ccb5-48f2-984e-78ff1c8f4035/j.a.b.
 s.-2.png
END:VEVENT
END:VCALENDAR
