BEGIN:VCALENDAR
VERSION:2.0
PRODID:icalendar-ruby
CALSCALE:GREGORIAN
METHOD:PUBLISH
BEGIN:VEVENT
DTSTAMP:20260422T014853Z
UID:232-811306@richmondparkchurch.ca
DTSTART:20260822T003000Z
DTEND:20260822T033000Z
CLASS:PUBLIC
CREATED:20260421T184037
DESCRIPTION:
LAST-MODIFIED:20260421T184037
LOCATION:
SUMMARY:j.a.b.s.  Junior Adult Bible Study
URL;VALUE=URI:https://www.richmondparkchurch.ca/events/j-a-b-s-junior-adult
 -bible-study/2026-08-21
ATTACH;FILENAME=j.a.b.s.-2.png;FMTTYPE=image/png:https://dq5pwpg1q8ru0.clou
 dfront.net/2025/09/17/19/06/19/5175646d-ccb5-48f2-984e-78ff1c8f4035/j.a.b.
 s.-2.png
END:VEVENT
END:VCALENDAR
