BEGIN:VCALENDAR
VERSION:2.0
PRODID:icalendar-ruby
CALSCALE:GREGORIAN
METHOD:PUBLISH
BEGIN:VEVENT
DTSTAMP:20260426T005109Z
UID:227-823161@richmondparkchurch.ca
DTSTART:20260927T160000Z
DTEND:20260927T173000Z
CLASS:PUBLIC
CREATED:20260425T190228
DESCRIPTION:
LAST-MODIFIED:20260425T190228
LOCATION:
SUMMARY:Worship Service
URL;VALUE=URI:https://www.richmondparkchurch.ca/events/worship-service--227
 /2026-09-27
ATTACH;FILENAME=worship-service-3.png;FMTTYPE=image/png:https://dq5pwpg1q8r
 u0.cloudfront.net/2025/08/29/18/23/31/90bccf48-d3cc-44e0-8370-7b15f431abf0
 /worship-service-3.png
END:VEVENT
END:VCALENDAR
